BEGIN:VCALENDAR
VERSION:2.0
PRODID:-//SVNA - Sport in Hamburg Bergedorf - ECPv6.7.0//NONSGML v1.0//EN
CALSCALE:GREGORIAN
METHOD:PUBLISH
X-WR-CALNAME:SVNA - Sport in Hamburg Bergedorf
X-ORIGINAL-URL:https://svna.de
X-WR-CALDESC:Veranstaltungen für SVNA - Sport in Hamburg Bergedorf
REFRESH-INTERVAL;VALUE=DURATION:PT1H
X-Robots-Tag:noindex
X-PUBLISHED-TTL:PT1H
BEGIN:VTIMEZONE
TZID:Europe/Berlin
BEGIN:DAYLIGHT
TZOFFSETFROM:+0100
TZOFFSETTO:+0200
TZNAME:CEST
DTSTART:20260329T010000
END:DAYLIGHT
BEGIN:STANDARD
TZOFFSETFROM:+0200
TZOFFSETTO:+0100
TZNAME:CET
DTSTART:20261025T010000
END:STANDARD
END:VTIMEZONE
BEGIN:VEVENT
DTSTART;TZID=Europe/Berlin:20260211T190000
DTEND;TZID=Europe/Berlin:20260211T210000
DTSTAMP:20260420T102849
CREATED:20250729T113802Z
LAST-MODIFIED:20260209T101004Z
UID:25619-1770836400-1770843600@svna.de
SUMMARY:ABGESAGT Fußball Bezirksliga Ost: SVNA - Condor 2.
DESCRIPTION:
URL:https://svna.de/termine/fussball-bezirksliga-ost-svna-dueneberg-1/
LOCATION:Sportanlage Katendeich\, Katendeich 14\, Hamburg\, Hamburg\, 21035\, Deutschland
END:VEVENT
END:VCALENDAR